BEGIN:VCALENDAR
VERSION:2.0
PRODID:-//hacksw/handcal//NONSGML v1.0//EN
BEGIN:VEVENT
SUMMARY:Meeting Nogent le Rotrou
UID:2d3b5a27-7495-4b36-ae84-4bb9c3e8ae2c
DTSTART:20260410T220000Z
DTEND:20260411T220000Z
LOCATION:Localisation   
CATEGORIES:Sportif
STATUS:
URL;VALUE=URI:https://www.esmpathletisme.fr/evenements/2026/04/11/meeting-nogent-le-rotrou-2435932
END:VEVENT
END:VCALENDAR
